BEGIN:VCALENDAR
VERSION:2.0
PRODID:-//BrobyværkNet - ECPv6.15.20//NONSGML v1.0//EN
CALSCALE:GREGORIAN
METHOD:PUBLISH
X-ORIGINAL-URL:https://brobyvaerk.net
X-WR-CALDESC:Begivenheder for BrobyværkNet
REFRESH-INTERVAL;VALUE=DURATION:PT1H
X-Robots-Tag:noindex
X-PUBLISHED-TTL:PT1H
BEGIN:VTIMEZONE
TZID:UTC
BEGIN:STANDARD
TZOFFSETFROM:+0000
TZOFFSETTO:+0000
TZNAME:UTC
DTSTART:20230101T000000
END:STANDARD
END:VTIMEZONE
BEGIN:VEVENT
DTSTART;TZID=UTC:20241102T150000
DTEND;TZID=UTC:20241102T150000
DTSTAMP:20260420T035338
CREATED:20241021T073834Z
LAST-MODIFIED:20241023T164454Z
UID:1747-1730559600-1730559600@brobyvaerk.net
SUMMARY:Hundetræning - familiehundehold
DESCRIPTION:Læs mere her
URL:https://brobyvaerk.net/event/hundetraening-familiehundehold/
LOCATION:Digital Hund\, Vandstrædet 9\, Nr. Broby\, Broby\, 5672\, Denmark
CATEGORIES:Digital Hund
ATTACH;FMTTYPE=image/jpeg:https://brobyvaerk.net/wp-content/uploads/2024/10/DSC02373-scaled.jpg
ORGANIZER;CN="Vivian Pedersen":MAILTO:kontakt@digitalhund.dk
END:VEVENT
END:VCALENDAR