BEGIN:VCALENDAR
VERSION:2.0
PRODID:-//BrobyværkNet - ECPv6.15.20//NONSGML v1.0//EN
CALSCALE:GREGORIAN
METHOD:PUBLISH
X-ORIGINAL-URL:https://brobyvaerk.net
X-WR-CALDESC:Begivenheder for BrobyværkNet
REFRESH-INTERVAL;VALUE=DURATION:PT1H
X-Robots-Tag:noindex
X-PUBLISHED-TTL:PT1H
BEGIN:VTIMEZONE
TZID:UTC
BEGIN:STANDARD
TZOFFSETFROM:+0000
TZOFFSETTO:+0000
TZNAME:UTC
DTSTART:20240101T000000
END:STANDARD
END:VTIMEZONE
BEGIN:VEVENT
DTSTART;TZID=UTC:20250228T180000
DTEND;TZID=UTC:20250228T230000
DTSTAMP:20260420T021930
CREATED:20250125T085644Z
LAST-MODIFIED:20250125T085644Z
UID:1865-1740765600-1740783600@brobyvaerk.net
SUMMARY:Pianoaften
DESCRIPTION:Velkommen til en skøn aften på Brobyværk Kro \n\n\n\nCathrine Selmann spiller og synger. Cathrine kommer fra Vester Hæsinge og har tidligere arbejdet som tjener her på kroen. Hun studerer musik på Københavns Universitet og er både klassisk og rytmisk musiker. \n\n\n\nVores kokke har sammensat en lækker 4 retters menu : \n\n\n\n\nVelkomstdrink med 3 slags snacks\n\n\n\nKammusling – selleri – frisée\n\n\n\nConsommé celestine – pandekage\n\n\n\nDue og braiseret oksebryst – rødbede – trøffelsauce\n\n\n\nKonditorens chokoladedessert – solbær – vanille\n\n\n\n\n Hvornår: Fredag den 28. februar 2025 kl. 18.00-23.00 \n\n\n\n Hvor: Brobyværk Kro \n\n\n\nTag familien\, vennerne eller kollegerne med til en hyggelig eftermiddag fyldt med forkælelse\, god kaffe og masser af søde fristelser. Book jeres plads allerede nu – ring til os på +45 62 63 11 22 eller send en mail til info@brobyvaerk-kro.dk \n\n\n\nVi glæder os til at byde jer velkommen til Konditorens Kagebord – en dag\, hvor kageglæden når nye højder \n\n\n\nkr. 625\,00
URL:https://brobyvaerk.net/event/pianoaften/
LOCATION:Brobyværk Kro\, Marsk Billes Vej\, Brobyværk\, Broby\, 5672\, Danmark
CATEGORIES:Brobyværk Kro
ATTACH;FMTTYPE=image/jpeg:https://brobyvaerk.net/wp-content/uploads/2025/01/Piano1-845x321-1.jpg
END:VEVENT
END:VCALENDAR