BEGIN:VCALENDAR
VERSION:2.0
PRODID:-//BrobyværkNet - ECPv6.15.20//NONSGML v1.0//EN
CALSCALE:GREGORIAN
METHOD:PUBLISH
X-WR-CALNAME:BrobyværkNet
X-ORIGINAL-URL:https://brobyvaerk.net
X-WR-CALDESC:Begivenheder for BrobyværkNet
REFRESH-INTERVAL;VALUE=DURATION:PT1H
X-Robots-Tag:noindex
X-PUBLISHED-TTL:PT1H
BEGIN:VTIMEZONE
TZID:UTC
BEGIN:STANDARD
TZOFFSETFROM:+0000
TZOFFSETTO:+0000
TZNAME:UTC
DTSTART:20240101T000000
END:STANDARD
END:VTIMEZONE
BEGIN:VEVENT
DTSTART;TZID=UTC:20250216T140000
DTEND;TZID=UTC:20250216T170000
DTSTAMP:20260420T040240
CREATED:20241216T154822Z
LAST-MODIFIED:20250125T085401Z
UID:1845-1739714400-1739725200@brobyvaerk.net
SUMMARY:Konditorens kagebord
DESCRIPTION:Velkommen til en kaffe og kage på Brobyværk Kro \n\n\n\nSæt kryds i kalenderen og glæd dig til en hyggelig eftermiddag med lækre\, hjemmelavede kager og den skønneste stemning på Midtfyns idylliske kro. \n\n\n\nVores konditor Helle inviterer til årets første og lækreste kagebord. Helle er udlært hos Grannys House i København\, hun har været på Det Danske Konditorlandshold\, vundet Sukkertoppen på TV2 i 2017\, og har netop præget forsiden på magasinet Lækkerier med hendes smukke honninghjerter. \n\n\n\nHelle byder på et udvalg af klassiske og moderne kager\, blandt andet: \n\n\n\n\nGammeldags fastelavnsboller med vaniljecreme og chokoladeganache\n\n\n\nModerne fastelavnsbolle med bærkompot\, fløde og vaniljecreme\n\n\n\nChokoladekiks med karamel\n\n\n\nHindbærsnitter\n\n\n\nRomkugler\n\n\n\nDessertkage\n\n\n\nPortionskager\n\n\n\nFriskbrygget kaffe og te\n\n\n\n\n Hvornår: Søndag den 16. februar 2025 kl. 14.00-17.00 \n\n\n\n Hvor: Brobyværk Kro \n\n\n\nTag familien\, vennerne eller kollegerne med til en hyggelig eftermiddag fyldt med forkælelse\, god kaffe og masser af søde fristelser. \n\n\n\n Book jeres plads allerede nu – ring til os på +45 62 63 11 22 eller send en mail til info@brobyvaerk-kro.dk \n\n\n\nVi glæder os til at byde jer velkommen til Konditorens Kagebord – en dag\, hvor kageglæden når nye højder \n\n\n\nkr. 295\,00
URL:https://brobyvaerk.net/event/konditorens-kagebord/
LOCATION:Brobyværk Kro\, Marsk Billes Vej\, Brobyværk\, Broby\, 5672\, Danmark
CATEGORIES:Brobyværk Kro
ATTACH;FMTTYPE=image/jpeg:https://brobyvaerk.net/wp-content/uploads/2024/12/470005954_1162964135829199_6011971868775670505_n.jpg
END:VEVENT
END:VCALENDAR