BEGIN:VCALENDAR
VERSION:2.0
PRODID:-//BrobyværkNet - ECPv6.15.20//NONSGML v1.0//EN
CALSCALE:GREGORIAN
METHOD:PUBLISH
X-WR-CALNAME:BrobyværkNet
X-ORIGINAL-URL:https://brobyvaerk.net
X-WR-CALDESC:Begivenheder for BrobyværkNet
REFRESH-INTERVAL;VALUE=DURATION:PT1H
X-Robots-Tag:noindex
X-PUBLISHED-TTL:PT1H
BEGIN:VTIMEZONE
TZID:UTC
BEGIN:STANDARD
TZOFFSETFROM:+0000
TZOFFSETTO:+0000
TZNAME:UTC
DTSTART:20240101T000000
END:STANDARD
END:VTIMEZONE
BEGIN:VEVENT
DTSTART;TZID=UTC:20250214T180000
DTEND;TZID=UTC:20250214T233000
DTSTAMP:20260420T040240
CREATED:20250125T085115Z
LAST-MODIFIED:20250125T085116Z
UID:1861-1739556000-1739575800@brobyvaerk.net
SUMMARY:Valentins aften
DESCRIPTION:Overrask en du holder af med en uforglemmelig aften i kærlighedens tegn i vores hyggelige og stemningsfulde rammer. Den 14. februar dækker vi op til en skøn Valentinsaften med en særlig menu\, der sætter gang i sanserne og forkæler jer begge. \n\n\n\nValentinsmenu:Vores køkkenchef har sammensat en udsøgt menu med sæsonens bedste råvarer\, hvor smag\, elegance og kærlighed går hånd i hånd. Glæd jer til en gastronomisk oplevelse\, der fuldender aftenen. \n\n\n\n\nHummer bisque med barigaule syltet artiskok og krabbekød\n\n\n\nFarseret kalvefilet med haler\, savoykål og urtesauce\n\n\n\nCosmopolitan dessert med hvid chokolade\, lime og tranebær\n\n\n\n\nDen perfekte vin: Vores vinkort byder på nøje udvalgte vine\, der komplementerer menuen og sætter prikken over i’et på jeres romantiske middag. \n\n\n\nHyggelig stemning: Lad romantikken blomstre i vores charmerende omgivelser med dæmpet lys\, levende lys på bordene og en varm atmosfære. \n\n\n\n Hvornår: Fredag den 14. februar fra kl. 18.00 Hvor: Brobyværk Kro \n\n\n\nGiv jer selv tid til at nyde hinandens selskab og lade kærligheden være i centrum for en aften. \n\n\n\nBook jeres bord nu – ring til os på +45 62 63 11 22 eller send en mail til info@brobyvaerk-kro.dk. \n\n\n\nVi glæder os til at byde jer velkommen til en romantisk og mindeværdig Valentinsaften på Brobyværk Kro. \n\n\n\n3 retter kr. 475\,00
URL:https://brobyvaerk.net/event/valentins-aften/
LOCATION:Brobyværk Kro\, Marsk Billes Vej\, Brobyværk\, Broby\, 5672\, Danmark
CATEGORIES:Brobyværk Kro
ATTACH;FMTTYPE=image/jpeg:https://brobyvaerk.net/wp-content/uploads/2024/10/Brobyvaerk-kro-historien-845x321-1.jpg
END:VEVENT
END:VCALENDAR