BEGIN:VCALENDAR
VERSION:2.0
PRODID:-//BrobyværkNet - ECPv6.15.20//NONSGML v1.0//EN
CALSCALE:GREGORIAN
METHOD:PUBLISH
X-ORIGINAL-URL:https://brobyvaerk.net
X-WR-CALDESC:Begivenheder for BrobyværkNet
REFRESH-INTERVAL;VALUE=DURATION:PT1H
X-Robots-Tag:noindex
X-PUBLISHED-TTL:PT1H
BEGIN:VTIMEZONE
TZID:UTC
BEGIN:STANDARD
TZOFFSETFROM:+0000
TZOFFSETTO:+0000
TZNAME:UTC
DTSTART:20230101T000000
END:STANDARD
END:VTIMEZONE
BEGIN:VEVENT
DTSTART;TZID=UTC:20241010T193000
DTEND;TZID=UTC:20241010T210000
DTSTAMP:20260420T121543
CREATED:20240808T051723Z
LAST-MODIFIED:20240808T052015Z
UID:1501-1728588600-1728594000@brobyvaerk.net
SUMMARY:Koncert med "Trio Dyveke"
DESCRIPTION:Der er lagt op til en nostalgisk og hyggelig aften på kroen\, når “Trio Dyveke” spiller alle de kendte og elskede melodier og sange fra den gamle danske film- og revyskat. \n\n\n\nTilmelding ved Palle tlf. 22811953 e-mail pallepraest@hotmail.com eller Jane tlf. 28284183 e-mail karlsson@mail.dk \n\n\n\nMulighed for tilkøb af to-retters koncertmenu (serveres fra kl. 17.30). Bestilles direkte ved Brobyværk Kro på telefon 62631122 eller email info@brobyvaerk-kro.dk
URL:https://brobyvaerk.net/event/koncert-med-trio-dyveke/
LOCATION:Brobyværk Kro\, Marsk Billes Vej\, Brobyværk\, Broby\, 5672\, Danmark
CATEGORIES:Brobyværk Kro,Palle og Jane
ATTACH;FMTTYPE=image/jpeg:https://brobyvaerk.net/wp-content/uploads/2024/08/Dyveke-foto.jpg
ORGANIZER;CN="Palle Jensen":MAILTO:pallepraest@hotmail.com
END:VEVENT
END:VCALENDAR