BEGIN:VCALENDAR
VERSION:2.0
PRODID:-//BrobyværkNet - ECPv6.15.20//NONSGML v1.0//EN
CALSCALE:GREGORIAN
METHOD:PUBLISH
X-ORIGINAL-URL:https://brobyvaerk.net
X-WR-CALDESC:Begivenheder for BrobyværkNet
REFRESH-INTERVAL;VALUE=DURATION:PT1H
X-Robots-Tag:noindex
X-PUBLISHED-TTL:PT1H
BEGIN:VTIMEZONE
TZID:UTC
BEGIN:STANDARD
TZOFFSETFROM:+0000
TZOFFSETTO:+0000
TZNAME:UTC
DTSTART:20240101T000000
END:STANDARD
END:VTIMEZONE
BEGIN:VEVENT
DTSTART;TZID=UTC:20250503T130000
DTEND;TZID=UTC:20250503T150000
DTSTAMP:20260419T184947
CREATED:20250415T065056Z
LAST-MODIFIED:20250415T065151Z
UID:1982-1746277200-1746284400@brobyvaerk.net
SUMMARY:Åbent Hus - Broby Tennis og Padel
DESCRIPTION:
URL:https://brobyvaerk.net/event/aabent-hus-broby-tennis-og-padel/
LOCATION:Broby Tennis og Padel\, Skovvej 6\, Broby\, Broby\, 5672\, Denmark
CATEGORIES:Broby Tennis og Padel
ATTACH;FMTTYPE=image/png:https://brobyvaerk.net/wp-content/uploads/2023/04/Skaermbillede-2023-04-16-kl.-08.59.56.png
END:VEVENT
END:VCALENDAR