BEGIN:VCALENDAR
VERSION:2.0
PRODID:-//BrobyværkNet - ECPv6.15.20//NONSGML v1.0//EN
CALSCALE:GREGORIAN
METHOD:PUBLISH
X-WR-CALNAME:BrobyværkNet
X-ORIGINAL-URL:https://brobyvaerk.net
X-WR-CALDESC:Begivenheder for BrobyværkNet
REFRESH-INTERVAL;VALUE=DURATION:PT1H
X-Robots-Tag:noindex
X-PUBLISHED-TTL:PT1H
BEGIN:VTIMEZONE
TZID:UTC
BEGIN:STANDARD
TZOFFSETFROM:+0000
TZOFFSETTO:+0000
TZNAME:UTC
DTSTART:20240101T000000
END:STANDARD
END:VTIMEZONE
BEGIN:VEVENT
DTSTART;TZID=UTC:20250304T180000
DTEND;TZID=UTC:20250304T200000
DTSTAMP:20260419T204925
CREATED:20250224T052205Z
LAST-MODIFIED:20250224T052446Z
UID:1917-1741111200-1741118400@brobyvaerk.net
SUMMARY:Madklub uge 10
DESCRIPTION:
URL:https://brobyvaerk.net/event/madklub-uge-10-2/
LOCATION:Brobyværk Hallen\, Pontoppidansvej 9\, Broby\, Brobyværk\, 5672\, Danmark
CATEGORIES:Broby IF,Madklub
END:VEVENT
END:VCALENDAR