BEGIN:VCALENDAR
VERSION:2.0
PRODID:-//BrobyværkNet - ECPv6.15.20//NONSGML v1.0//EN
CALSCALE:GREGORIAN
METHOD:PUBLISH
X-WR-CALNAME:BrobyværkNet
X-ORIGINAL-URL:https://brobyvaerk.net
X-WR-CALDESC:Begivenheder for BrobyværkNet
REFRESH-INTERVAL;VALUE=DURATION:PT1H
X-Robots-Tag:noindex
X-PUBLISHED-TTL:PT1H
BEGIN:VTIMEZONE
TZID:UTC
BEGIN:STANDARD
TZOFFSETFROM:+0000
TZOFFSETTO:+0000
TZNAME:UTC
DTSTART:20250101T000000
END:STANDARD
END:VTIMEZONE
BEGIN:VEVENT
DTSTART;TZID=UTC:20260420T150000
DTEND;TZID=UTC:20260420T163000
DTSTAMP:20260420T013313
CREATED:20260320T092946Z
LAST-MODIFIED:20260320T093340Z
UID:2242-1776697200-1776702600@brobyvaerk.net
SUMMARY:Læsekreds: Moderskabets rejse
DESCRIPTION:Tag med på rejse ind i moderskabets verden. Ny\, faglitterær læsekreds på Broby Bibliotek om moderskab\, bedstemoderskab og disses forgreninger. \n\n\n\n“Gud kunne ikke være overalt\, og derfor skabte han mødre.” – Rudyard Kipling. \n\n\n\nAt blive mor bringer både glæder\, sorger og bekymringer. Det er en konstant i livet\, som vi mennesker altid har skulle forholde os til. \n\n\n\nMange forfattere bearbejder forholdet til børnene\, manden og sig selv gennem skønlitteraturen\, men faglitteraturen gemmer også på mange guldkorn. Tekster\, som kan hjælpe\, når forventningerne bliver knust og ansvaret tynger. Som fremhæver stjernestunder. Som skaber et fællesskab på tværs af generationer og bygrænser. \n\n\n\nTag med bibliotekar Sarah på en rejse ind i moderskabets verden set gennem faglitteraturen. Her vil vi udforske moderskabets bakker og dale\, det ukendte territorie af bedstemoderskab\, og de forgreninger\, som leder nogen af den gængse vej. \n\n\n\nLæsekredsen mødes tre gange i foråret for at tale om tre forskellige fortællinger om moderskab: \n\n\n\n\nDen 20. april kl. 15.00 til 16.30: Fra graviditet til teenageårene – bogen til denne mødegang er “Ramt” af Sofie Lassen-Kahlke.  \n\n\n\nDen 18. maj kl. 15.00 til 16.30: “Bedstemoderskab”. Hvad sker der når vores børn får børn? Det beretter antologien “Børnebørn” om. \n\n\n\nDen 22. juni 15.00 til 16.30: Vi vil undersøge konsekvenserne af et skævt forhold mellem mor og barn. Her læser vi Jennette McCurdys “Jeg er glad for min mor døde”. \n\n\n\n\nTilmelding gælder for alle tre mødegange. For den bedste oplevelse er læsningen af bøgerne og deltagelse i mødegangene anbefalet. Alle er velkomne\, uanset om de selv er mor eller ej. Bøgerne bestilles på forhånd\, og kan hentes efter bekræftelse af tilmelding. Bemærk tilmeldingsfrist d. 13.4. \n\n\n\n\n\n\nTilmelding
URL:https://brobyvaerk.net/event/laesekreds-moderskabets-rejse/
LOCATION:Broby Bibliotek\, Skovvej 2\, Brobyværk\, Broby\, 5672\, Danmark
CATEGORIES:Broby Bibliotek,Faaborg-Midtfyn Bibliotekerne
ATTACH;FMTTYPE=image/png:https://brobyvaerk.net/wp-content/uploads/2026/03/Opslag-hjemmeside-og-some-skabeloner-2026-6.png
END:VEVENT
BEGIN:VEVENT
DTSTART;TZID=UTC:20260420T190000
DTEND;TZID=UTC:20260420T210000
DTSTAMP:20260420T013313
CREATED:20260329T093856Z
LAST-MODIFIED:20260410T085414Z
UID:2265-1776711600-1776718800@brobyvaerk.net
SUMMARY:Brobyværk Lokalråd - Årsmøde 2025
DESCRIPTION:
URL:https://brobyvaerk.net/event/brobyvaerk-lokalraad-aarsmoede-2025/
LOCATION:Brobyværk Kro\, Marsk Billes Vej\, Brobyværk\, Broby\, 5672\, Danmark
ATTACH;FMTTYPE=image/jpeg:https://brobyvaerk.net/wp-content/uploads/2022/04/image-1.jpeg
END:VEVENT
END:VCALENDAR