BEGIN:VCALENDAR
VERSION:2.0
PRODID:-//BrobyværkNet - ECPv6.15.20//NONSGML v1.0//EN
CALSCALE:GREGORIAN
METHOD:PUBLISH
X-ORIGINAL-URL:https://brobyvaerk.net
X-WR-CALDESC:Begivenheder for BrobyværkNet
REFRESH-INTERVAL;VALUE=DURATION:PT1H
X-Robots-Tag:noindex
X-PUBLISHED-TTL:PT1H
BEGIN:VTIMEZONE
TZID:UTC
BEGIN:STANDARD
TZOFFSETFROM:+0000
TZOFFSETTO:+0000
TZNAME:UTC
DTSTART:20210101T000000
END:STANDARD
END:VTIMEZONE
BEGIN:VEVENT
DTSTART;TZID=UTC:20220430T130000
DTEND;TZID=UTC:20220430T160000
DTSTAMP:20260419T142308
CREATED:20220428T170343Z
LAST-MODIFIED:20220428T170343Z
UID:850-1651323600-1651334400@brobyvaerk.net
SUMMARY:Brobyværk Tennisklub - Åbent Hus
DESCRIPTION:
URL:https://brobyvaerk.net/event/brobyvaerk-tennisklub-aabent-hus/
LOCATION:Brobyværk Tennisklub\, Skovvej 6A\, Brobyværk\, 5672\, Danmark
CATEGORIES:Brobyværk Tennisklub
ORGANIZER;CN="Brobyv%C3%A6rk Tennisklub":MAILTO:broby.tennisklub@gmail.com
END:VEVENT
END:VCALENDAR